BEGIN:VCALENDAR
VERSION:2.0
PRODID:LFV Website-Kit
METHOD:PUBLISH
BEGIN:VEVENT
UID:lfv-f0df9024-948b-4dc6-b6c9-ee2ab096376b
LOCATION:
SUMMARY:Feuerwehrfest Neudorf - Stimmungsabend
DESCRIPTION:Termin Link: http://schernfeld.feuerwehren.bayern/termine/feuerwehrfest-neudorf/
URL:http://schernfeld.feuerwehren.bayern/termine/feuerwehrfest-neudorf/
CLASS:PRIVATE
DTSTART;TZID=Europe/Berlin:20260509T180000
DTEND;TZID=Europe/Berlin:20260509T190000
DTSTAMP:20260419T065937Z
END:VEVENT
END:VCALENDAR